BEGIN:VCALENDAR
VERSION:2.0
PRODID:-//Evenalia - ECPv6.15.20//NONSGML v1.0//EN
CALSCALE:GREGORIAN
METHOD:PUBLISH
X-WR-CALNAME:Evenalia
X-ORIGINAL-URL:https://evenalia.com
X-WR-CALDESC:Eventos para Evenalia
REFRESH-INTERVAL;VALUE=DURATION:PT1H
X-Robots-Tag:noindex
X-PUBLISHED-TTL:PT1H
BEGIN:VTIMEZONE
TZID:Europe/Madrid
BEGIN:DAYLIGHT
TZOFFSETFROM:+0100
TZOFFSETTO:+0200
TZNAME:CEST
DTSTART:20240331T010000
END:DAYLIGHT
BEGIN:STANDARD
TZOFFSETFROM:+0200
TZOFFSETTO:+0100
TZNAME:CET
DTSTART:20241027T010000
END:STANDARD
BEGIN:DAYLIGHT
TZOFFSETFROM:+0100
TZOFFSETTO:+0200
TZNAME:CEST
DTSTART:20250330T010000
END:DAYLIGHT
BEGIN:STANDARD
TZOFFSETFROM:+0200
TZOFFSETTO:+0100
TZNAME:CET
DTSTART:20251026T010000
END:STANDARD
BEGIN:DAYLIGHT
TZOFFSETFROM:+0100
TZOFFSETTO:+0200
TZNAME:CEST
DTSTART:20260329T010000
END:DAYLIGHT
BEGIN:STANDARD
TZOFFSETFROM:+0200
TZOFFSETTO:+0100
TZNAME:CET
DTSTART:20261025T010000
END:STANDARD
BEGIN:DAYLIGHT
TZOFFSETFROM:+0100
TZOFFSETTO:+0200
TZNAME:CEST
DTSTART:20270328T010000
END:DAYLIGHT
BEGIN:STANDARD
TZOFFSETFROM:+0200
TZOFFSETTO:+0100
TZNAME:CET
DTSTART:20271031T010000
END:STANDARD
END:VTIMEZONE
BEGIN:VEVENT
DTSTART;TZID=Europe/Madrid:20250611T080000
DTEND;TZID=Europe/Madrid:20250612T160000
DTSTAMP:20260420T072547
CREATED:20250511T092951Z
LAST-MODIFIED:20250801T101153Z
UID:1431-1749628800-1749744000@evenalia.com
SUMMARY:II Feria Agricultura Sostenible
DESCRIPTION:  \n\n\n\n\n\n📅 Fecha: 11 y 12 de junio de 2025\, 08:00 – 16:00 Horas📍 Lugar: Salón de celebraciones del Hostal-Restaurante Gasparrico\, 18611\, Molvízar\, Granada🔗 Organiza: Asociación Granada +\, Ayuntamiento de Molvízar🤝 Financiado: Junta de Andalucía – Unión Europea \n\n\n\n\n\n\n\n\n\n\n\n	\n				\n			Compartir en Facebook		\n	\n\n\n\n\n	\n				\n			Compartir en X		\n	\n\n\n\n\n	\n				\n			Compartir en WhatsApp		\n	\n\n\n\n\n	\n				\n			Share on Threads		\n	\n\n\n\n\n	\n				\n			Compartir en Telegram
URL:https://evenalia.com/evento/ii-feria-agricultura-sostenible/
CATEGORIES:Feria,Jornadas
ATTACH;FMTTYPE=image/jpeg:https://evenalia.com/wp-content/uploads/2025/05/II-Feria-agricultura-sostenibel-cartel.jpg
END:VEVENT
BEGIN:VEVENT
DTSTART;TZID=Europe/Madrid:20251127T100000
DTEND;TZID=Europe/Madrid:20251128T140000
DTSTAMP:20260420T072547
CREATED:20251023T064031Z
LAST-MODIFIED:20251120T132336Z
UID:1609-1764237600-1764338400@evenalia.com
SUMMARY:I Foro Agrotech Startup
DESCRIPTION:AFORO COMPLETO\n\n\n\nInnovación\, Emprendimiento y Tecnología para Transformar el Agro. \n\n\n\n\n\n\n\n\n\n\n\n\n\n\n\n\n\n\n\n\n\n\n  \n\n\n\n\n\n\n📅 Fecha: 27 de noviembre de 2025\, 10:00 – 14:00 Horas 📍 Lugar: Salón de Actos Edifico Autoridad Portuaria de Motril 🔗 Organiza: Asociación Granada + 🤝 Financiado: Junta de Andalucía – Unión Europea \n\n\n\n\n\nAFORO COMPLETO\n\n\n\n\n\n\n\n\n\n\n	\n				\n			Compartir en Facebook		\n	\n\n\n\n\n	\n				\n			Compartir en X		\n	\n\n\n\n\n	\n				\n			Compartir en WhatsApp		\n	\n\n\n\n\n	\n				\n			Compartir en Telegram		\n	\n\n\n\n\n	\n				\n			Share on Threads
URL:https://evenalia.com/evento/i-foro-agrotech-startup/
CATEGORIES:Foro,Jornadas
ATTACH;FMTTYPE=image/jpeg:https://evenalia.com/wp-content/uploads/2025/10/CARTEL-I-FORO.jpg
END:VEVENT
BEGIN:VEVENT
DTSTART;TZID=Europe/Madrid:20260314T180000
DTEND;TZID=Europe/Madrid:20260314T200000
DTSTAMP:20260420T072547
CREATED:20260225T130641Z
LAST-MODIFIED:20260226T204336Z
UID:1792-1773511200-1773518400@evenalia.com
SUMMARY:IV Jornadas del Vino Natural de Molvízar 14 Marzo
DESCRIPTION:Molvízar vuelve a convertirse en punto de encuentro para amantes del vino\, la cultura y las tradiciones con la celebración de las IV Jornadas del Vino Natural de Molvízar. \n\n\n\n\n\n\n\n\n  \n\n\n\n\n📅 Fecha: 14 de marzo\, de 18:00 a 20:00 Horas.📍 Lugar: La Compañía\, C. Bo. Alto\, 1\, 18611\, Molvízar\, Granada🔗 Organiza: Asociación Molvízar Siglo XXI🤝 Colabora: Ayuntamiento de Molvízar🎯 Patrocina: Diputación Provincial de Granada y Mancomunidad de Municipios Costa Tropical \n\n\n\n\n\nLimitado\, reserva cuanto antes!\n\n\n\n\n\n\n\n\n\n\n\nX\n\nInstagram\n\nFacebook
URL:https://evenalia.com/evento/iv-jornadas-del-vino-natural-de-molvizar-14-marzo/
CATEGORIES:Cata,Jornadas
ATTACH;FMTTYPE=image/jpeg:https://evenalia.com/wp-content/uploads/2026/02/cartel-iv-jornadas-molvizar-vino-14-marzo.jpg
END:VEVENT
BEGIN:VEVENT
DTSTART;TZID=Europe/Madrid:20260315T120000
DTEND;TZID=Europe/Madrid:20260315T133000
DTSTAMP:20260420T072547
CREATED:20260225T110332Z
LAST-MODIFIED:20260313T212946Z
UID:1769-1773576000-1773581400@evenalia.com
SUMMARY:IV Jornadas del Vino Natural de Molvízar 15 Marzo
DESCRIPTION:Molvízar vuelve a convertirse en punto de encuentro para amantes del vino\, la cultura y las tradiciones con la celebración de las IV Jornadas del Vino Natural de Molvízar. \n\n\n\n\n\n\n\n  \n\n\n\n\n📅 Fecha: 15 de marzo\, de 12:00 a 13:30 Horas.📍 Lugar: La Compañía\, C. Bo. Alto\, 1\, 18611\, Molvízar\, Granada🔗 Organiza: Asociación Molvízar Siglo XXI🤝 Colabora: Ayuntamiento de Molvízar🎯 Patrocina: Diputación Provincial de Granada y Mancomunidad de Municipios Costa Tropical \n\n\n\n\n\nLimitado\, reserva cuanto antes!\n\n\n\n\n\n\n\n\n\n\n\nX\n\nInstagram\n\nFacebook
URL:https://evenalia.com/evento/iv-jornadas-del-vino-natural-de-molvizar/
CATEGORIES:Cata,Jornadas
ATTACH;FMTTYPE=image/jpeg:https://evenalia.com/wp-content/uploads/2026/02/cartel-iv-jornadas-molvizar-vino.jpg
END:VEVENT
BEGIN:VEVENT
DTSTART;TZID=Europe/Madrid:20260424T093000
DTEND;TZID=Europe/Madrid:20260424T141500
DTSTAMP:20260420T072547
CREATED:20260406T095303Z
LAST-MODIFIED:20260412T081301Z
UID:1909-1777023000-1777040100@evenalia.com
SUMMARY:I Foro de Agroturismo Experiencial
DESCRIPTION:El I Foro de Agroturismo Experiencial de Molvízar se celebrará los días 24 y 25 de abril de 2026\, convirtiendo al municipio en un punto de encuentro para profesionales\, emprendedores\, instituciones y amantes del medio rural. Este foro nace con el objetivo de impulsar nuevas formas de desarrollo sostenible a través del agroturismo\, poniendo en valor el territorio\, el sector primario y la innovación cultural. Durante dos días\, Molvízar acogerá conferencias\, mesas de debate\, experiencias prácticas y espacios de networking que fomentarán la cooperación\, el intercambio de conocimiento y la creación de nuevas oportunidades para el entorno rural. \n\n\n\n\n\n\n\n\n\n\n  \n\n\n\n\n📅 Fecha: 24 de abril\, de 09:30 a 14:15 Horas.📍 Lugar: Casa de la Cultura de Molvízar\, Calle Rioja\, 36\, 18611\, Molvízar\, Granada🔗 Organiza: Asociación Molvízar Siglo XXI🎯 Colabora – Patrocinio: Ayuntamiento de Molvízar\, Diputación de Granada\, Mancomunidad de municipios Costa Tropical\, Patronato provincial de Turismo de Granada.\n\n\n\n\n\n\n\n\n\n\n\n\n\n\n\n\n	\n				\n			Compartir en X		\n	\n\n\n\n\n	\n				\n			Compartir en Facebook		\n	\n\n\n\n\n	\n				\n			Compartir en WhatsApp
URL:https://evenalia.com/evento/i-foro-de-agroturismo-experiencial/
CATEGORIES:Foro,Jornadas
ATTACH;FMTTYPE=image/jpeg:https://evenalia.com/wp-content/uploads/2026/04/I-FORO-AGROTURISMO-EXPERIMENTAL.jpeg
END:VEVENT
BEGIN:VEVENT
DTSTART;TZID=Europe/Madrid:20260426T113000
DTEND;TZID=Europe/Madrid:20260426T150000
DTSTAMP:20260420T072547
CREATED:20260412T074541Z
LAST-MODIFIED:20260412T081614Z
UID:1924-1777203000-1777215600@evenalia.com
SUMMARY:LA MEMORIA DEL AGUA
DESCRIPTION:Un viaje a través de la historia y la cultura del agua. \n\n\n\nLa Memoria del Agua es un recorrido accesible que pone en valor la importancia del agua en la vida cotidiana de Molvízar. A través de fuentes\, acequias y espacios tradicionales\, esta ruta permite descubrir cómo este recurso ha modelado el paisaje\, la agricultura y la identidad del municipio a lo largo del tiempo. Una experiencia tranquila y enriquecedora que conecta pasado y presente.. \n\n\n\n\n\n\n\n\n\n\n  \n\n\n\n\nUna ruta para entender el territorio\n\n\n\nLa Memoria del Agua es una invitación a descubrir cómo el agua ha sido eje fundamental en la historia y desarrollo de Molvízar\, configurando su paisaje y sus formas de vida. Un recorrido pausado para reconectar con el patrimonio y las tradiciones locales. \n\n\n\n\n\n\n\n\n\n\n\n\n\n\n\n\n\n\n	\n				\n			Compartir en X		\n	\n\n\n\n\n	\n				\n			Compartir en Facebook		\n	\n\n\n\n\n	\n				\n			Compartir en WhatsApp
URL:https://evenalia.com/evento/la-memoria-del-agua/
CATEGORIES:Ruta
ATTACH;FMTTYPE=image/png:https://evenalia.com/wp-content/uploads/2026/04/ruta-la-memoria-del-agua-1-de-2.png
END:VEVENT
BEGIN:VEVENT
DTSTART;TZID=Europe/Madrid:20260503T110000
DTEND;TZID=Europe/Madrid:20260503T150000
DTSTAMP:20260420T072547
CREATED:20260412T080159Z
LAST-MODIFIED:20260412T081524Z
UID:1932-1777806000-1777820400@evenalia.com
SUMMARY:LA SENDA DEL AGUA
DESCRIPTION:Una experiencia entre naturaleza\, historia y paisaje \n\n\n\nLa Senda del Agua es un recorrido que conecta el patrimonio natural y cultural de Molvízar a través de antiguas sendas utilizadas durante generaciones. A lo largo del itinerario\, descubrirás enclaves clave vinculados a la cultura del agua\, mientras disfrutas de impresionantes vistas de la sierra y la Costa Tropical. Una experiencia que combina paisaje\, memoria y tradición en un entorno único. \n\n\n\n\n\n\n\n\n\n\n  \n\n\n\n\n\n\n\n\n\n\n\n\n\n\n\n\n\n\n\n	\n				\n			Compartir en X		\n	\n\n\n\n\n	\n				\n			Compartir en Facebook		\n	\n\n\n\n\n	\n				\n			Compartir en WhatsApp
URL:https://evenalia.com/evento/la-senda-del-agua/
CATEGORIES:Ruta
ATTACH;FMTTYPE=image/jpeg:https://evenalia.com/wp-content/uploads/2026/04/ruta-la-senda-del-agua.jpg
END:VEVENT
END:VCALENDAR