BEGIN:VCALENDAR
VERSION:2.0
PRODID:-//Evenalia - ECPv6.15.20//NONSGML v1.0//EN
CALSCALE:GREGORIAN
METHOD:PUBLISH
X-WR-CALNAME:Evenalia
X-ORIGINAL-URL:https://evenalia.com
X-WR-CALDESC:Eventos para Evenalia
REFRESH-INTERVAL;VALUE=DURATION:PT1H
X-Robots-Tag:noindex
X-PUBLISHED-TTL:PT1H
BEGIN:VTIMEZONE
TZID:Europe/Madrid
BEGIN:DAYLIGHT
TZOFFSETFROM:+0100
TZOFFSETTO:+0200
TZNAME:CEST
DTSTART:20240331T010000
END:DAYLIGHT
BEGIN:STANDARD
TZOFFSETFROM:+0200
TZOFFSETTO:+0100
TZNAME:CET
DTSTART:20241027T010000
END:STANDARD
BEGIN:DAYLIGHT
TZOFFSETFROM:+0100
TZOFFSETTO:+0200
TZNAME:CEST
DTSTART:20250330T010000
END:DAYLIGHT
BEGIN:STANDARD
TZOFFSETFROM:+0200
TZOFFSETTO:+0100
TZNAME:CET
DTSTART:20251026T010000
END:STANDARD
BEGIN:DAYLIGHT
TZOFFSETFROM:+0100
TZOFFSETTO:+0200
TZNAME:CEST
DTSTART:20260329T010000
END:DAYLIGHT
BEGIN:STANDARD
TZOFFSETFROM:+0200
TZOFFSETTO:+0100
TZNAME:CET
DTSTART:20261025T010000
END:STANDARD
END:VTIMEZONE
BEGIN:VEVENT
DTSTART;TZID=Europe/Madrid:20250425T000000
DTEND;TZID=Europe/Madrid:20250425T000100
DTSTAMP:20260420T012000
CREATED:20250421T104954Z
LAST-MODIFIED:20250801T104253Z
UID:1352-1745539200-1745539260@evenalia.com
SUMMARY:Cata degustación de Cervezas Artesanas con Segral
DESCRIPTION:  \n\n\n\n\n📅 Fecha: 25 de abril de 2025\, 20:00 a 24:00 Horas📍 Lugar: La Compañía\, C. Bo. Alto\, 1\, 18611\, Molvízar\, Granada🔗 Organiza: Asociación Molvízar Siglo XXI🤝 Colabora: Ayuntamiento de Molvízar🎯 Patrocina: Diputación Provincial de Granada y Mancomunidad de Municipios Costa Tropical \n\n\n\n\n\nLimitado\, reserva cuanto antes!\n\n\n\n\n\n\n\n\n\n\n\n\n	\n				\n			Compartir en Facebook		\n	\n\n\n\n\n	\n				\n			Compartir en X		\n	\n\n\n\n\n	\n				\n			Compartir en WhatsApp		\n	\n\n\n\n\n	\n				\n			Share on Threads		\n	\n\n\n\n\n	\n				\n			Compartir en Telegram
URL:https://evenalia.com/evento/cata-degustacion-de-cervezas-artesanas-con-segral/
CATEGORIES:Cata
ATTACH;FMTTYPE=image/jpeg:https://evenalia.com/wp-content/uploads/2025/04/Cata-25abril-segral.jpg
END:VEVENT
BEGIN:VEVENT
DTSTART;TZID=Europe/Madrid:20250426T123000
DTEND;TZID=Europe/Madrid:20250426T143000
DTSTAMP:20260420T012000
CREATED:20250421T110425Z
LAST-MODIFIED:20250801T104334Z
UID:1360-1745670600-1745677800@evenalia.com
SUMMARY:Cata-Degustación de Chocolates Artesanos con Chocolates Sierra Nevada
DESCRIPTION:  \n\n\n\n\n📅 Fecha: 26 de abril de 2025\, 12:30Horas📍 Lugar: La Compañía\, C. Bo. Alto\, 1\, 18611\, Molvízar\, Granada🔗 Organiza: Asociación Molvízar Siglo XXI🤝 Colabora: Ayuntamiento de Molvízar🎯 Patrocina: Diputación Provincial de Granada y Mancomunidad de Municipios Costa Tropical \n\n\n\n\n\nLimitado\, reserva cuanto antes!\n\n\n\n\n\n\n\n\n\n\n\n\n	\n				\n			Compartir en Facebook		\n	\n\n\n\n\n	\n				\n			Compartir en X		\n	\n\n\n\n\n	\n				\n			Compartir en WhatsApp		\n	\n\n\n\n\n	\n				\n			Share on Threads		\n	\n\n\n\n\n	\n				\n			Compartir en Telegram
URL:https://evenalia.com/evento/cata-degustacion-de-chocolates-artesanos-con-chocolates-sierra-nevada/
CATEGORIES:Cata
ATTACH;FMTTYPE=image/jpeg:https://evenalia.com/wp-content/uploads/2025/04/Cata-Deg-Chocolates-Snevada.jpg
END:VEVENT
BEGIN:VEVENT
DTSTART;TZID=Europe/Madrid:20250426T163000
DTEND;TZID=Europe/Madrid:20250426T183000
DTSTAMP:20260420T012000
CREATED:20250421T111244Z
LAST-MODIFIED:20250804T160019Z
UID:1364-1745685000-1745692200@evenalia.com
SUMMARY:Cata-Degustación de Ginebra Artesanal con Gin Zari
DESCRIPTION:  \n\n\n\n\n📅 Fecha: 25 de abril de 2025\, 20:00 a 24:00 Horas📍 Lugar: La Compañía\, C. Bo. Alto\, 1\, 18611\, Molvízar\, Granada🔗 Organiza: Asociación Molvízar Siglo XXI🤝 Colabora: Ayuntamiento de Molvízar🎯 Patrocina: Diputación Provincial de Granada y Mancomunidad de Municipios Costa Tropical \n\n\n\n\n\nLimitado\, reserva cuanto antes!\n\n\n\n\n\n\n\n\n\n\n\n\n	\n				\n			Compartir en Facebook		\n	\n\n\n\n\n	\n				\n			Compartir en X		\n	\n\n\n\n\n	\n				\n			Compartir en WhatsApp		\n	\n\n\n\n\n	\n				\n			Share on Threads		\n	\n\n\n\n\n	\n				\n			Compartir en Telegram
URL:https://evenalia.com/evento/cata-degustacion-de-ginebra-artesanal-con-gin-zari/
CATEGORIES:Cata
ATTACH;FMTTYPE=image/jpeg:https://evenalia.com/wp-content/uploads/2025/04/Cata-Degustacion-de-Ginebra-Artesanal-con-Gin-Zari.jpg
END:VEVENT
END:VCALENDAR